BEGIN:VCALENDAR
VERSION:2.0
PRODID:-//kyohatsu//JP
CALSCALE:GREGORIAN
BEGIN:VEVENT
DTSTART;VALUE=DATE:20260427
SUMMARY:廊下に植えた林檎の木
DESCRIPTION:残 雪/近藤　直子/鷲巣　益美 白水社
UID:9784560072684@kyohatsu.lb-product.com
END:VEVENT
END:VCALENDAR
