BEGIN:VCALENDAR
VERSION:2.0
PRODID:-//kyohatsu//JP
CALSCALE:GREGORIAN
BEGIN:VEVENT
DTSTART;VALUE=DATE:20260502
SUMMARY:『民衆こそ王者』に学ぶ　「トインビーとの対話」
DESCRIPTION:「池田大作とその時代」編纂委員会 潮出版社
UID:9784267024979@kyohatsu.lb-product.com
END:VEVENT
END:VCALENDAR
