BEGIN:VCALENDAR
VERSION:2.0
PRODID:-//kyohatsu//JP
CALSCALE:GREGORIAN
BEGIN:VEVENT
DTSTART;VALUE=DATE:20260608
SUMMARY:人生の観察
DESCRIPTION:吉村 昭 河出書房新社
UID:9784309422725@kyohatsu.lb-product.com
END:VEVENT
BEGIN:VEVENT
DTSTART;VALUE=DATE:20260608
SUMMARY:半分のぼった黄色い太陽　下
DESCRIPTION:チママンダ・ンゴズィ・アディーチェ/くぼた のぞみ 河出書房新社
UID:9784309468334@kyohatsu.lb-product.com
END:VEVENT
BEGIN:VEVENT
DTSTART;VALUE=DATE:20260608
SUMMARY:にっこり、洋食（仮）
DESCRIPTION:森 茉莉/中谷 宇吉郎 河出書房新社
UID:9784309422718@kyohatsu.lb-product.com
END:VEVENT
BEGIN:VEVENT
DTSTART;VALUE=DATE:20260608
SUMMARY:怖い物件　山手線めぐり（仮）
DESCRIPTION:藤白 圭 河出書房新社
UID:9784309422732@kyohatsu.lb-product.com
END:VEVENT
BEGIN:VEVENT
DTSTART;VALUE=DATE:20260608
SUMMARY:半分のぼった黄色い太陽　上
DESCRIPTION:チママンダ・ンゴズィ・アディーチェ/くぼた のぞみ 河出書房新社
UID:9784309468327@kyohatsu.lb-product.com
END:VEVENT
BEGIN:VEVENT
DTSTART;VALUE=DATE:20260615
SUMMARY:BUTTER
DESCRIPTION:柚木 麻子 河出書房新社
UID:9784309422763@kyohatsu.lb-product.com
END:VEVENT
END:VCALENDAR
