BEGIN:VCALENDAR
VERSION:2.0
PRODID:-//kyohatsu//JP
CALSCALE:GREGORIAN
BEGIN:VEVENT
DTSTART;VALUE=DATE:20260519
SUMMARY:荻生徂徠全詩 3（934\\;914）
DESCRIPTION:荒井　健/田口　一郎 平凡社
UID:9784582809343@kyohatsu.lb-product.com
END:VEVENT
END:VCALENDAR
