BEGIN:VCALENDAR
VERSION:2.0
PRODID:-//kyohatsu//JP
CALSCALE:GREGORIAN
BEGIN:VEVENT
DTSTART;VALUE=DATE:20260528
SUMMARY:本棚の記憶
DESCRIPTION:三中信宏 灯光舎
UID:9784909992116@kyohatsu.lb-product.com
END:VEVENT
END:VCALENDAR
