BEGIN:VCALENDAR
VERSION:2.0
PRODID:-//kyohatsu//JP
CALSCALE:GREGORIAN
BEGIN:VEVENT
DTSTART;VALUE=DATE:20260605
SUMMARY:イケボ配信者は俺狙い！？ 7
DESCRIPTION:あぺこ 白泉社
UID:9784592721864@kyohatsu.lb-product.com
END:VEVENT
END:VCALENDAR
