BEGIN:VCALENDAR
VERSION:2.0
PRODID:-//kyohatsu//JP
CALSCALE:GREGORIAN
BEGIN:VEVENT
DTSTART;VALUE=DATE:20260515
SUMMARY:夜天に祈る　新選組星辰録（二）
DESCRIPTION:三本 雅彦 角川春樹事務所
UID:9784758448109@kyohatsu.lb-product.com
END:VEVENT
END:VCALENDAR
