BEGIN:VCALENDAR
VERSION:2.0
PRODID:-//kyohatsu//JP
CALSCALE:GREGORIAN
BEGIN:VEVENT
DTSTART;VALUE=DATE:20260527
SUMMARY:ジュビリー
DESCRIPTION:アリス・マンロー/小竹 由美子 新潮社
UID:9784105902087@kyohatsu.lb-product.com
END:VEVENT
END:VCALENDAR
