BEGIN:VCALENDAR
VERSION:2.0
PRODID:-//kyohatsu//JP
CALSCALE:GREGORIAN
BEGIN:VEVENT
DTSTART;VALUE=DATE:20260625
SUMMARY:総特集　小林まこと　-笑う闘魂！-
DESCRIPTION:小林 まこと 河出書房新社
UID:9784309980973@kyohatsu.lb-product.com
END:VEVENT
END:VCALENDAR
