BEGIN:VCALENDAR
VERSION:2.0
PRODID:-//kyohatsu//JP
CALSCALE:GREGORIAN
BEGIN:VEVENT
DTSTART;VALUE=DATE:20260526
SUMMARY:痛苦の聖母
DESCRIPTION:ジョン・ブラックバーン/永島憲江/中島晶也 国書刊行会
UID:9784336078360@kyohatsu.lb-product.com
END:VEVENT
END:VCALENDAR
