BEGIN:VCALENDAR
VERSION:2.0
PRODID:-//kyohatsu//JP
CALSCALE:GREGORIAN
BEGIN:VEVENT
DTSTART;VALUE=DATE:20260605
SUMMARY:トラックくん
DESCRIPTION:えのもとえつこ/鎌田歩 株式会社 福音館書店
UID:9784834089103@kyohatsu.lb-product.com
END:VEVENT
END:VCALENDAR
