BEGIN:VCALENDAR
VERSION:2.0
PRODID:-//kyohatsu//JP
CALSCALE:GREGORIAN
BEGIN:VEVENT
DTSTART;VALUE=DATE:20260519
SUMMARY:アイアース
DESCRIPTION:ソポクレース/木曾 明子 岩波書店
UID:9784003210543@kyohatsu.lb-product.com
END:VEVENT
END:VCALENDAR
