BEGIN:VCALENDAR
VERSION:2.0
PRODID:-//kyohatsu//JP
CALSCALE:GREGORIAN
BEGIN:VEVENT
DTSTART;VALUE=DATE:20260511
SUMMARY:藤原定家とその時代
DESCRIPTION:久保田 淳 岩波書店
UID:9784007316715@kyohatsu.lb-product.com
END:VEVENT
END:VCALENDAR
