BEGIN:VCALENDAR
VERSION:2.0
PRODID:-//kyohatsu//JP
CALSCALE:GREGORIAN
BEGIN:VEVENT
DTSTART;VALUE=DATE:20260603
SUMMARY:知れば知るほど泣けるガウディ
DESCRIPTION:別冊宝島編集部 宝島社
UID:9784299078605@kyohatsu.lb-product.com
END:VEVENT
END:VCALENDAR
