BEGIN:VCALENDAR
VERSION:2.0
PRODID:-//kyohatsu//JP
CALSCALE:GREGORIAN
BEGIN:VEVENT
DTSTART;VALUE=DATE:20260603
SUMMARY:刑事の境界線
DESCRIPTION:宮島 明道 宝島社
UID:9784299078810@kyohatsu.lb-product.com
END:VEVENT
END:VCALENDAR
