BEGIN:VCALENDAR
VERSION:2.0
PRODID:-//kyohatsu//JP
CALSCALE:GREGORIAN
BEGIN:VEVENT
DTSTART;VALUE=DATE:20260521
SUMMARY:枕草子
DESCRIPTION:清 少納言/池田 亀鑑 岩波書店
UID:9784007610394@kyohatsu.lb-product.com
END:VEVENT
END:VCALENDAR
