BEGIN:VCALENDAR
VERSION:2.0
PRODID:-//kyohatsu//JP
CALSCALE:GREGORIAN
BEGIN:VEVENT
DTSTART;VALUE=DATE:20260601
SUMMARY:ティルのなみだ
DESCRIPTION:由美村 嬉々/やまなか ももこ 地平社
UID:9784868630012@kyohatsu.lb-product.com
END:VEVENT
END:VCALENDAR
