BEGIN:VCALENDAR
VERSION:2.0
PRODID:-//kyohatsu//JP
CALSCALE:GREGORIAN
BEGIN:VEVENT
DTSTART;VALUE=DATE:20260601
SUMMARY:私たちは仮想現実の中で、どのように生きるかー「西田幾多郎哲学」の再評価へ向けてー＜日英対訳版＞
DESCRIPTION:伊藤和光 牧歌舎
UID:9784434379055@kyohatsu.lb-product.com
END:VEVENT
END:VCALENDAR
