BEGIN:VCALENDAR
VERSION:2.0
PRODID:-//kyohatsu//JP
CALSCALE:GREGORIAN
BEGIN:VEVENT
DTSTART;VALUE=DATE:20260513
SUMMARY:解けるとこわい謎解きゲーム　顔の見えないトモダチ
DESCRIPTION:やまもと　しょう（SCRAP）/吉岡　みつる/くにたろ/号　えいすけ ポプラ社
UID:9784591189832@kyohatsu.lb-product.com
END:VEVENT
END:VCALENDAR
