BEGIN:VCALENDAR
VERSION:2.0
PRODID:-//kyohatsu//JP
CALSCALE:GREGORIAN
BEGIN:VEVENT
DTSTART;VALUE=DATE:20260519
SUMMARY:半神さまは修行中！　恋に、スポーツに、謎解きに…!?（1）
DESCRIPTION:ささきかつお/idonaka 岩崎書店
UID:9784265811748@kyohatsu.lb-product.com
END:VEVENT
END:VCALENDAR
