BEGIN:VCALENDAR
VERSION:2.0
PRODID:-//kyohatsu//JP
CALSCALE:GREGORIAN
BEGIN:VEVENT
DTSTART;VALUE=DATE:20260610
SUMMARY:ロミオとジュリエット
DESCRIPTION:シェイクスピア/小田島創志 光文社
UID:9784334110475@kyohatsu.lb-product.com
END:VEVENT
END:VCALENDAR
