BEGIN:VCALENDAR
VERSION:2.0
PRODID:-//kyohatsu//JP
CALSCALE:GREGORIAN
BEGIN:VEVENT
DTSTART;VALUE=DATE:20260521
SUMMARY:ハウフ　ショートセレクション　幽霊船の話
DESCRIPTION:ヴィルヘルム・ハウフ/酒寄進一/ヨシタケシンスケ 理論社
UID:9784652207024@kyohatsu.lb-product.com
END:VEVENT
END:VCALENDAR
