BEGIN:VCALENDAR
VERSION:2.0
PRODID:-//kyohatsu//JP
CALSCALE:GREGORIAN
BEGIN:VEVENT
DTSTART;VALUE=DATE:20260529
SUMMARY:BLACKPINK
DESCRIPTION:ジェシカ・ユン/ホネ・チャン/やまぐちまいか 二見書房
UID:9784576260334@kyohatsu.lb-product.com
END:VEVENT
END:VCALENDAR
