BEGIN:VCALENDAR
VERSION:2.0
PRODID:-//kyohatsu//JP
CALSCALE:GREGORIAN
BEGIN:VEVENT
DTSTART;VALUE=DATE:20260706
SUMMARY:異世界で淫魔師ハレム　2
DESCRIPTION:伊藤　寿規/ドン・ドナシアン KADOKAWA
UID:9784046602756@kyohatsu.lb-product.com
END:VEVENT
END:VCALENDAR
