BEGIN:VCALENDAR
VERSION:2.0
PRODID:-//kyohatsu//JP
CALSCALE:GREGORIAN
BEGIN:VEVENT
DTSTART;VALUE=DATE:20260608
SUMMARY:ATMおじさん　異世界でモテ期が止まらない！2
DESCRIPTION:チェ・ミンジ/林達永 キルタイムコミュニケーション
UID:9784799221785@kyohatsu.lb-product.com
END:VEVENT
END:VCALENDAR
