BEGIN:VCALENDAR
VERSION:2.0
PRODID:-//kyohatsu//JP
CALSCALE:GREGORIAN
BEGIN:VEVENT
DTSTART;VALUE=DATE:20260608
SUMMARY:ダンジョンを造ろう2
DESCRIPTION:春雷/渡良瀬ユウ キルタイムコミュニケーション
UID:9784799221778@kyohatsu.lb-product.com
END:VEVENT
END:VCALENDAR
