BEGIN:VCALENDAR
VERSION:2.0
PRODID:-//kyohatsu//JP
CALSCALE:GREGORIAN
BEGIN:VEVENT
DTSTART;VALUE=DATE:20260608
SUMMARY:ゲームをしていると思ったらいつの間にか異世界にいた1
DESCRIPTION:孫陽州/ダキマクラン キルタイムコミュニケーション
UID:9784799221761@kyohatsu.lb-product.com
END:VEVENT
END:VCALENDAR
