BEGIN:VCALENDAR
VERSION:2.0
PRODID:-//kyohatsu//JP
CALSCALE:GREGORIAN
BEGIN:VEVENT
DTSTART;VALUE=DATE:20260609
SUMMARY:世界のニュースを日本人は何も知らない - 激レア＆ディープ情報版 -
DESCRIPTION:谷本 真由美 ワニブックス
UID:9784847067242@kyohatsu.lb-product.com
END:VEVENT
BEGIN:VEVENT
DTSTART;VALUE=DATE:20260609
SUMMARY:近鉄学 - 名物広報マンが解き明かす、日本最大私鉄の強さの秘密 -
DESCRIPTION:福原 稔浩 ワニブックス
UID:9784847067235@kyohatsu.lb-product.com
END:VEVENT
END:VCALENDAR
