BEGIN:VCALENDAR
VERSION:2.0
PRODID:-//kyohatsu//JP
CALSCALE:GREGORIAN
BEGIN:VEVENT
DTSTART;VALUE=DATE:20260520
SUMMARY:冒険者の治療を始めたら、獣人の番に捕まりました　〜出会って2日で即求婚！？　超美形の王子様からの溺愛は想定外です！〜（1）
DESCRIPTION:ゲーハー/北沢きょう オーバーラップ
UID:9784824015716@kyohatsu.lb-product.com
END:VEVENT
END:VCALENDAR
