BEGIN:VCALENDAR
VERSION:2.0
PRODID:-//kyohatsu//JP
CALSCALE:GREGORIAN
BEGIN:VEVENT
DTSTART;VALUE=DATE:20260504
SUMMARY:琥珀と蒼 -AIが愛した時間ー
DESCRIPTION:武岡 隆 武岡出版
UID:9784991476006@kyohatsu.lb-product.com
END:VEVENT
END:VCALENDAR
