BEGIN:VCALENDAR
VERSION:2.0
PRODID:-//kyohatsu//JP
CALSCALE:GREGORIAN
BEGIN:VEVENT
DTSTART;VALUE=DATE:20260526
SUMMARY:現代の夢解きの本
DESCRIPTION:タデウシュ・コンヴィツキ/菅原　祥 幻戯書房
UID:9784864883467@kyohatsu.lb-product.com
END:VEVENT
END:VCALENDAR
