BEGIN:VCALENDAR
VERSION:2.0
PRODID:-//kyohatsu//JP
CALSCALE:GREGORIAN
BEGIN:VEVENT
DTSTART;VALUE=DATE:20260529
SUMMARY:勇者の当て馬でしかない悪役貴族に転生した俺（3）　〜勇者では推しヒロインを不幸にしかできないので、俺が彼女を幸せにするためにゲーム知識と過剰な努力でシナリオをぶっ壊します〜
DESCRIPTION:こはるんるん/星川ちどり 徳間書店
UID:9784199509735@kyohatsu.lb-product.com
END:VEVENT
END:VCALENDAR
