BEGIN:VCALENDAR
VERSION:2.0
PRODID:-//kyohatsu//JP
CALSCALE:GREGORIAN
BEGIN:VEVENT
DTSTART;VALUE=DATE:20260509
SUMMARY:はじまりは愛の契約　新装版
DESCRIPTION:アメシスト・エイムス/林啓恵 竹書房
UID:9784801949287@kyohatsu.lb-product.com
END:VEVENT
END:VCALENDAR
