BEGIN:VCALENDAR
VERSION:2.0
PRODID:-//kyohatsu//JP
CALSCALE:GREGORIAN
BEGIN:VEVENT
DTSTART;VALUE=DATE:20260605
SUMMARY:さよなら、鳥かごの恋
DESCRIPTION:未礼/里南とか 一二三書房
UID:9784824206879@kyohatsu.lb-product.com
END:VEVENT
BEGIN:VEVENT
DTSTART;VALUE=DATE:20260605
SUMMARY:塩対応の婚約者を置いて旅に出たら、捨てたはずの王子がついてきた
DESCRIPTION:那須のじか/西いちこ 一二三書房
UID:9784824206862@kyohatsu.lb-product.com
END:VEVENT
END:VCALENDAR
