BEGIN:VCALENDAR
VERSION:2.0
PRODID:-//kyohatsu//JP
CALSCALE:GREGORIAN
BEGIN:VEVENT
DTSTART;VALUE=DATE:20260519
SUMMARY:ゆめのなかの名探偵
DESCRIPTION:杉山 亮/中川大輔 偕成社
UID:9784033455402@kyohatsu.lb-product.com
END:VEVENT
END:VCALENDAR
