BEGIN:VCALENDAR
VERSION:2.0
PRODID:-//kyohatsu//JP
CALSCALE:GREGORIAN
BEGIN:VEVENT
DTSTART;VALUE=DATE:20260615
SUMMARY:夜明けの貴公子は行き遅れの太陽に恋焦がれる THE COMIC 1
DESCRIPTION:あすかいくに/鶏冠 勇真 マッグガーデン
UID:9784800017604@kyohatsu.lb-product.com
END:VEVENT
BEGIN:VEVENT
DTSTART;VALUE=DATE:20260615
SUMMARY:騎士団長！ 私は不審者ではありません！ まして、婚約者になんてなれません！ THE COMIC 1
DESCRIPTION:衣吹まいな/頼爾 マッグガーデン
UID:9784800017734@kyohatsu.lb-product.com
END:VEVENT
BEGIN:VEVENT
DTSTART;VALUE=DATE:20260615
SUMMARY:異能の姫は後宮の妖を祓う　平安陰陽奇譚 THE COMIC 1
DESCRIPTION:にしき秋湖/藤夜 マッグガーデン
UID:9784800017741@kyohatsu.lb-product.com
END:VEVENT
END:VCALENDAR
