BEGIN:VCALENDAR
VERSION:2.0
PRODID:-//kyohatsu//JP
CALSCALE:GREGORIAN
BEGIN:VEVENT
DTSTART;VALUE=DATE:20260612
SUMMARY:転生少女はまず一歩からはじめたい〜魔物がいるとか聞いてない！〜 8
DESCRIPTION:岡村アユム/カヤ マッグガーデン
UID:9784800017673@kyohatsu.lb-product.com
END:VEVENT
BEGIN:VEVENT
DTSTART;VALUE=DATE:20260612
SUMMARY:ヴァージン・キラー忍法帖 1
DESCRIPTION:成田芋虫 マッグガーデン
UID:9784800017680@kyohatsu.lb-product.com
END:VEVENT
BEGIN:VEVENT
DTSTART;VALUE=DATE:20260612
SUMMARY:異世界転生の冒険者 14
DESCRIPTION:しばの番茶/ケンイチ マッグガーデン
UID:9784800017710@kyohatsu.lb-product.com
END:VEVENT
BEGIN:VEVENT
DTSTART;VALUE=DATE:20260612
SUMMARY:大商家の愛娘（幼女）ですが、毎日元気いっぱいに暮らしていたら攻略対象の過去トラウマを一掃しちゃってたみたいです THE COMIC 1
DESCRIPTION:西園フミコ/ビビリキウイ マッグガーデン
UID:9784800017703@kyohatsu.lb-product.com
END:VEVENT
BEGIN:VEVENT
DTSTART;VALUE=DATE:20260612
SUMMARY:無能と呼ばれた『精霊たらし』〜実は異能で、精霊界では伝説的ヒーローでした〜＠COMIC 8
DESCRIPTION:タバタグランドキャニオン/佐藤謙羊 マッグガーデン
UID:9784800017697@kyohatsu.lb-product.com
END:VEVENT
BEGIN:VEVENT
DTSTART;VALUE=DATE:20260612
SUMMARY:聖女が来るから「君を愛することはない」と言われたのでお飾り王妃に徹していたら、聖女が5歳だったので全力で愛します!! 3
DESCRIPTION:カセ深ビスホ/宮之みやこ マッグガーデン
UID:9784800017727@kyohatsu.lb-product.com
END:VEVENT
END:VCALENDAR
