BEGIN:VCALENDAR
VERSION:2.0
PRODID:-//kyohatsu//JP
CALSCALE:GREGORIAN
BEGIN:VEVENT
DTSTART;VALUE=DATE:20260609
SUMMARY:中禅寺先生物怪講義録　先生が謎を解いてしまうから。（13）
DESCRIPTION:志水 アキ/京極 夏彦/田村 半蔵 講談社
UID:9784065431245@kyohatsu.lb-product.com
END:VEVENT
END:VCALENDAR
