BEGIN:VCALENDAR
VERSION:2.0
PRODID:-//kyohatsu//JP
CALSCALE:GREGORIAN
BEGIN:VEVENT
DTSTART;VALUE=DATE:20260520
SUMMARY:真夜中のぐっすりカフェ2
DESCRIPTION:編乃肌 マイナビ出版
UID:9784839989477@kyohatsu.lb-product.com
END:VEVENT
END:VCALENDAR
