BEGIN:VCALENDAR
VERSION:2.0
PRODID:-//kyohatsu//JP
CALSCALE:GREGORIAN
BEGIN:VEVENT
DTSTART;VALUE=DATE:20260513
SUMMARY:教授のパン屋さん　ふたりの秘密と焼きたて推理
DESCRIPTION:近江　泉美 ポプラ社
UID:9784591189900@kyohatsu.lb-product.com
END:VEVENT
END:VCALENDAR
