BEGIN:VCALENDAR
VERSION:2.0
PRODID:-//kyohatsu//JP
CALSCALE:GREGORIAN
BEGIN:VEVENT
DTSTART;VALUE=DATE:20260507
SUMMARY:親愛なる旦那様、妻の役目は世継ぎを設けるだけと聞いておりましたが〜虐げられ才女の幸せな結婚〜2
DESCRIPTION:十帖 スターツ出版
UID:9784813796244@kyohatsu.lb-product.com
END:VEVENT
END:VCALENDAR
