BEGIN:VCALENDAR
VERSION:2.0
PRODID:-//kyohatsu//JP
CALSCALE:GREGORIAN
BEGIN:VEVENT
DTSTART;VALUE=DATE:20260507
SUMMARY:捨てたものに用なんかないでしょう？〜めでたく離縁されたので、疎まれ才女は仕事に生きようと思います〜
DESCRIPTION:風見ゆうみ スターツ出版
UID:9784813796213@kyohatsu.lb-product.com
END:VEVENT
BEGIN:VEVENT
DTSTART;VALUE=DATE:20260507
SUMMARY:「一思いに殺して」と告げたら最強国で幸せになった〜妹の身代わりで嫁がされた王女と彼女を棄てた家族の結末〜
DESCRIPTION:池中織奈 スターツ出版
UID:9784813796220@kyohatsu.lb-product.com
END:VEVENT
BEGIN:VEVENT
DTSTART;VALUE=DATE:20260507
SUMMARY:「異端の悪妃」の私は喜んで捨てられましょう〜英雄と呼ばれた旦那様、どうやら貴方の活躍は私のおかげだったみたいですよ？〜
DESCRIPTION:瑞希ちこ スターツ出版
UID:9784813796190@kyohatsu.lb-product.com
END:VEVENT
BEGIN:VEVENT
DTSTART;VALUE=DATE:20260507
SUMMARY:先にあなたが捨てたのです。さようなら、陰の王家と呼ばれた一族は隣国にお引越しします
DESCRIPTION:十夜 スターツ出版
UID:9784813796183@kyohatsu.lb-product.com
END:VEVENT
BEGIN:VEVENT
DTSTART;VALUE=DATE:20260507
SUMMARY:お飾り側妃は陛下の退位を要求します〜幼い王子を冷遇する王家の皆様、どうぞ後悔なさいませ〜
DESCRIPTION:ごろごろみかん。 スターツ出版
UID:9784813796206@kyohatsu.lb-product.com
END:VEVENT
BEGIN:VEVENT
DTSTART;VALUE=DATE:20260507
SUMMARY:それでは、ひとつだけ頂戴いたします〜お望み通り出て行きますが、すべてを失うのはどちらでしょう？〜
DESCRIPTION:楽歩 スターツ出版
UID:9784813796237@kyohatsu.lb-product.com
END:VEVENT
END:VCALENDAR
