BEGIN:VCALENDAR
VERSION:2.0
PRODID:-//kyohatsu//JP
CALSCALE:GREGORIAN
BEGIN:VEVENT
DTSTART;VALUE=DATE:20260623
SUMMARY:バスカヴィル家の政略結婚　上
DESCRIPTION:柴崎ふじ子/夢子 ハーパーコリンズ・ジャパン
UID:9784302119424@kyohatsu.lb-product.com
END:VEVENT
END:VCALENDAR
