BEGIN:VCALENDAR
VERSION:2.0
PRODID:-//kyohatsu//JP
CALSCALE:GREGORIAN
BEGIN:VEVENT
DTSTART;VALUE=DATE:20260522
SUMMARY:悪妃オフィーリアの時戻り〜暴君に断罪を、裏切り者に破滅を、禁忌の王子に愛の花束を〜1
DESCRIPTION:三毛猫寅次/アオイ冬子 ハーパーコリンズ・ジャパン
UID:9784302118588@kyohatsu.lb-product.com
END:VEVENT
END:VCALENDAR
