BEGIN:VCALENDAR
VERSION:2.0
PRODID:-//kyohatsu//JP
CALSCALE:GREGORIAN
BEGIN:VEVENT
DTSTART;VALUE=DATE:20260522
SUMMARY:できそこない魔女の嫁入り〜かつての弟子からこじらせ溺愛されて成り上がります〜3
DESCRIPTION:那須まうー/ゆちば ハーパーコリンズ・ジャパン
UID:9784302118724@kyohatsu.lb-product.com
END:VEVENT
END:VCALENDAR
