BEGIN:VCALENDAR
VERSION:2.0
PRODID:-//kyohatsu//JP
CALSCALE:GREGORIAN
BEGIN:VEVENT
DTSTART;VALUE=DATE:20260522
SUMMARY:ラチェリアの恋 4
DESCRIPTION:みなみ恵夢/三毛猫寅次 ハーパーコリンズ・ジャパン
UID:9784302116560@kyohatsu.lb-product.com
END:VEVENT
END:VCALENDAR
