BEGIN:VCALENDAR
VERSION:2.0
PRODID:-//kyohatsu//JP
CALSCALE:GREGORIAN
BEGIN:VEVENT
DTSTART;VALUE=DATE:20260522
SUMMARY:侯爵様、勃たないはずでは！？〜初夜から絶倫ケダモノえっち〜 　1
DESCRIPTION:安里　けい ハーパーコリンズ・ジャパン
UID:9784302118045@kyohatsu.lb-product.com
END:VEVENT
END:VCALENDAR
