BEGIN:VCALENDAR
VERSION:2.0
PRODID:-//kyohatsu//JP
CALSCALE:GREGORIAN
BEGIN:VEVENT
DTSTART;VALUE=DATE:20260715
SUMMARY:私を裏切ったはずの公爵様が離婚してくれません（2）
DESCRIPTION:藤原ちづる/柏みなみ BookLive
UID:9784866755168@kyohatsu.lb-product.com
END:VEVENT
END:VCALENDAR
