BEGIN:VCALENDAR
VERSION:2.0
PRODID:-//kyohatsu//JP
CALSCALE:GREGORIAN
BEGIN:VEVENT
DTSTART;VALUE=DATE:20260715
SUMMARY:引退したおっさん冒険者、再雇用で最強ギルドマスターになってしまう（2）
DESCRIPTION:kimimaro/高島正嗣 BookLive
UID:9784866755151@kyohatsu.lb-product.com
END:VEVENT
END:VCALENDAR
