BEGIN:VCALENDAR
VERSION:2.0
PRODID:-//kyohatsu//JP
CALSCALE:GREGORIAN
BEGIN:VEVENT
DTSTART;VALUE=DATE:20260428
SUMMARY:愛され見習い薬師は次期公爵様の放置妻
DESCRIPTION:茜たま/小島きいち Jパブリッシング
UID:9784866698496@kyohatsu.lb-product.com
END:VEVENT
BEGIN:VEVENT
DTSTART;VALUE=DATE:20260528
SUMMARY:没落令嬢の身代わり初夜
DESCRIPTION:エロル/鶴 Jパブリッシング
UID:9784866698588@kyohatsu.lb-product.com
END:VEVENT
END:VCALENDAR
